BEGIN:VCALENDAR
VERSION:2.0
PRODID:-//wp-events-plugin.com//7.2.3.1//EN
TZID:America/Toronto
X-WR-TIMEZONE:America/Toronto
BEGIN:VEVENT
UID:66@shulab.mie.utoronto.ca
DTSTART;TZID=America/Toronto:20250211T121000
DTEND;TZID=America/Toronto:20250211T133000
DTSTAMP:20250204T213203Z
URL:https://shulab.mie.utoronto.ca/events/psycheng-reg-2025feb11-dr-paul-g
 auvreau/
SUMMARY:PsychEng Seminar: Dr Paul Gauvreau
DESCRIPTION:Date: Tuesday\, February 11\, 2025\nTime: 12:10pm-1:30pmTitle: 
 Understanding Bridge Aesthetics: A Collaborative ApproachSpeaker: Paul Gau
 vreau\, Professor\, Department of Civil &amp\; Mineral Engineering\, Unive
 rsity of TorontoLocation: GB220 (Galbraith Building 35 St George St\, Toro
 nto\, M5S 1A4)\nPlease register using the below form.\n\nYour registration
  helps us better balance attendance and participation between engineers an
 d psychologists. We also forward anonymously what you submit as "expertise
  area" and "interest in seminar" to the speakers\, so that they can better
  prepare for the expected audience.\n\nContacts: \n\nRegistration: David C
 hen at psycheng@mie.utoronto.ca\n\nAcademic: Prof. Li Shu at shu@mie.utoro
 nto.ca
LOCATION:GB220\, Galbraith Building\, Room 220\, 35 St George St\, Toronto\
 , Ontario\, M5S 1A4\, Canada
GEO:43.659885;-79.396353
X-APPLE-STRUCTURED-LOCATION;VALUE=URI;X-ADDRESS=35 St George St\, Toronto\,
  Ontario\, M5S 1A4\, Canada;X-APPLE-RADIUS=100;X-TITLE=GB220\, Galbraith B
 uilding\, Room 220:geo:43.659885,-79.396353
END:VEVENT
BEGIN:VTIMEZONE
TZID:America/Toronto
X-LIC-LOCATION:America/Toronto
BEGIN:STANDARD
DTSTART:20241103T010000
TZOFFSETFROM:-0400
TZOFFSETTO:-0500
TZNAME:EST
END:STANDARD
END:VTIMEZONE
END:VCALENDAR