BEGIN:VCALENDAR
VERSION:2.0
PRODID:-//wp-events-plugin.com//7.2.3.1//EN
TZID:America/Toronto
X-WR-TIMEZONE:America/Toronto
BEGIN:VEVENT
UID:48@shulab.mie.utoronto.ca
DTSTART;TZID=America/Toronto:20220322T120500
DTEND;TZID=America/Toronto:20220322T133000
DTSTAMP:20220314T224156Z
URL:https://shulab.mie.utoronto.ca/events/psycheng-seminar-registration-20
 22-march-22-jay-pratt/
SUMMARY:PsychEng Seminar Registration: 2022 March 22\, Dr. Jay Pratt
DESCRIPTION:Date: Tuesday\, March 22\, 2022\nTime: 12:05pm-1:30pmTitle: Att
 ending and responding to features and objectsSpeaker: Dr. Jay Pratt\, U of
  T Dept. of PsychologyLocation: Zoom\n\nFor Zoom meeting ID and passcode p
 lease register using the below form.\n\nYour registration helps us better 
 balance attendance and participation between engineers and psychologists. 
 We also forward anonymously what you submit as "expertise area" and "inter
 est in seminar" to the speakers\, so that they can better prepare for the 
 expected audience.\n\nContacts: \n\nRegistration: Sarah Halabieh at psyche
 ng@mie.utoronto.ca\n\nAcademic: Prof. Li Shu at shu@mie.utoronto.ca
END:VEVENT
BEGIN:VTIMEZONE
TZID:America/Toronto
X-LIC-LOCATION:America/Toronto
BEGIN:DAYLIGHT
DTSTART:20220313T030000
TZOFFSETFROM:-0500
TZOFFSETTO:-0400
TZNAME:EDT
END:DAYLIGHT
END:VTIMEZONE
END:VCALENDAR