BEGIN:VCALENDAR
VERSION:2.0
PRODID:-//wp-events-plugin.com//7.2.3.1//EN
TZID:America/Toronto
X-WR-TIMEZONE:America/Toronto
BEGIN:VEVENT
UID:23@shulab.mie.utoronto.ca
DTSTART;TZID=America/Toronto:20190919T121000
DTEND;TZID=America/Toronto:20190919T133000
DTSTAMP:20190918T180608Z
URL:https://shulab.mie.utoronto.ca/events/psycheng-seminar-reservation-add
 is-cognitive-neuroscience-creative-process/
SUMMARY:PsychEng Seminar Reservation: Dr. Donna Addis Sept 19: Using Cognit
 ive Neuroscience to Understand the Creative Process
DESCRIPTION:Using Cognitive Neuroscience to Understand the Creative Process
 \n\nRecent neuroimaging research indicates that the brain networks engaged
  when we remember the past are also activated by various types of creative
  cognition\, such as imagining the future and generating creative ideas (i
 .e.\, divergent thinking). In this seminar I will discuss the aspects of t
 he creative process that can be studied using the methods of cognitive neu
 roscience\, and recent evidence for the role of memory and the cooperation
  of  large-scale brain networks in creative cognition.\n\nhttp://research
 .baycrest.org/draddis\n\n&nbsp\;\n\nWhen: Thursday\, September 19th\, 2019
  from 12:10pm-1:30pm\n\nWhere: Room 2135\, Bahen Centre for Information Te
 chnology\, 40 St George St\, Toronto\, ON M5S 2E4\n\nRSVP by: 12 noon on W
 ednesday\, September 18th\, 2019 using the below form to be included in th
 e catering order.\n\n&nbsp\;\n\n&nbsp\;\n\nIf fully booked or if registrat
 ion is closed\, you may add your name to the waitlist:\n\nhttp://shulab.mi
 e.utoronto.ca/events/psycheng-seminar-waitlist-dr-donna-addis\n\n&nbsp\;\n
 \nContacts: \n\nRSVP-changes: Alex Sahar at psych_eng@mie.utoronto.ca\n\nA
 cademic: Prof. Li Shu at shu@mie.utoronto.ca\n\n&nbsp\;
LOCATION:Bahen Centre for Information Technology\, Room 2135\, 40 St George
  St\, Toronto\, Ontario\, M5S 2E4\, Canada
GEO:43.6596184;-79.39692079999998
X-APPLE-STRUCTURED-LOCATION;VALUE=URI;X-ADDRESS=40 St George St\, Toronto\,
  Ontario\, M5S 2E4\, Canada;X-APPLE-RADIUS=100;X-TITLE=Bahen Centre for In
 formation Technology\, Room 2135:geo:43.6596184,-79.39692079999998
END:VEVENT
BEGIN:VTIMEZONE
TZID:America/Toronto
X-LIC-LOCATION:America/Toronto
BEGIN:DAYLIGHT
DTSTART:20190310T030000
TZOFFSETFROM:-0500
TZOFFSETTO:-0400
TZNAME:EDT
END:DAYLIGHT
END:VTIMEZONE
END:VCALENDAR